Package: bronchialIL13 Version: 1.47.0 Maintainer: Vince Carey MaintainerEmail: stvjc at channing.harvard.edu git_url: https://git.bioconductor.org/packages/bronchialIL13 git_branch: devel git_last_commit: 73897ed git_last_commit_date: 2025-04-15 09:13:15 -0400 (Tue, 15 Apr 2025)