Package: bodymapRat Version: 1.25.0 Maintainer: Stephanie Hicks MaintainerEmail: shicks19 at jhu.edu git_url: https://git.bioconductor.org/packages/bodymapRat git_branch: devel git_last_commit: fd6b446 git_last_commit_date: 2025-04-15 10:13:30 -0400 (Tue, 15 Apr 2025)