Package: airway Version: 1.29.0 Command: /home/biocbuild/bbs-3.22-bioc/R/bin/R CMD INSTALL airway StartedAt: 2025-04-24 10:58:04 -0400 (Thu, 24 Apr 2025) EndedAt: 2025-04-24 10:58:17 -0400 (Thu, 24 Apr 2025) EllapsedTime: 13.5 seconds RetCode: 0 Status: OK