Package: airway Version: 1.29.0 Command: /home/biocbuild/bbs-3.22-bioc/R/bin/R CMD build --keep-empty-dirs --no-resave-data airway StartedAt: 2025-04-24 11:07:14 -0400 (Thu, 24 Apr 2025) EndedAt: 2025-04-24 11:07:55 -0400 (Thu, 24 Apr 2025) EllapsedTime: 41.8 seconds RetCode: 0 Status: OK PackageFile: airway_1.29.0.tar.gz PackageFileSize: 23.61 MiB