Package: affydata Version: 1.57.0 Command: /home/biocbuild/bbs-3.22-bioc/R/bin/R CMD INSTALL affydata StartedAt: 2025-04-24 10:57:34 -0400 (Thu, 24 Apr 2025) EndedAt: 2025-04-24 10:57:37 -0400 (Thu, 24 Apr 2025) EllapsedTime: 3.4 seconds RetCode: 0 Status: OK