Package: affydata Version: 1.57.0 Command: /home/biocbuild/bbs-3.22-bioc/R/bin/R CMD check --install=check:affydata.install-out.txt --library=/home/biocbuild/bbs-3.22-bioc/R/site-library --timings affydata_1.57.0.tar.gz StartedAt: 2025-04-24 11:47:38 -0400 (Thu, 24 Apr 2025) EndedAt: 2025-04-24 11:48:29 -0400 (Thu, 24 Apr 2025) EllapsedTime: 50.7 seconds RetCode: 0 Status: WARNINGS CheckDir: affydata.Rcheck Warnings: 2