Package: WGSmapp Version: 1.21.0 Command: /home/biocbuild/bbs-3.22-bioc/R/bin/R CMD INSTALL WGSmapp StartedAt: 2025-04-24 10:57:49 -0400 (Thu, 24 Apr 2025) EndedAt: 2025-04-24 10:58:33 -0400 (Thu, 24 Apr 2025) EllapsedTime: 44.1 seconds RetCode: 0 Status: OK