Package: WGSmapp Version: 1.21.0 Command: /home/biocbuild/bbs-3.22-bioc/R/bin/R CMD check --install=check:WGSmapp.install-out.txt --library=/home/biocbuild/bbs-3.22-bioc/R/site-library --timings WGSmapp_1.21.0.tar.gz StartedAt: 2025-04-24 12:54:26 -0400 (Thu, 24 Apr 2025) EndedAt: 2025-04-24 12:55:50 -0400 (Thu, 24 Apr 2025) EllapsedTime: 83.3 seconds RetCode: 0 Status: WARNINGS CheckDir: WGSmapp.Rcheck Warnings: 1