Package: WGSmapp Version: 1.21.0 Command: /home/biocbuild/bbs-3.22-bioc/R/bin/R CMD build --keep-empty-dirs --no-resave-data WGSmapp StartedAt: 2025-04-24 11:45:25 -0400 (Thu, 24 Apr 2025) EndedAt: 2025-04-24 11:45:45 -0400 (Thu, 24 Apr 2025) EllapsedTime: 19.6 seconds RetCode: 0 Status: OK PackageFile: WGSmapp_1.21.0.tar.gz PackageFileSize: 195.7 MiB