Package: TBX20BamSubset Version: 1.45.0 Command: /home/biocbuild/bbs-3.22-bioc/R/bin/R CMD check --install=check:TBX20BamSubset.install-out.txt --library=/home/biocbuild/bbs-3.22-bioc/R/site-library --timings TBX20BamSubset_1.45.0.tar.gz StartedAt: 2025-04-29 12:51:48 -0400 (Tue, 29 Apr 2025) EndedAt: 2025-04-29 12:52:38 -0400 (Tue, 29 Apr 2025) EllapsedTime: 49.6 seconds RetCode: 0 Status: OK CheckDir: TBX20BamSubset.Rcheck Warnings: 0