Package: TBX20BamSubset Version: 1.45.0 Maintainer: D. Bindreither MaintainerEmail: daniel.bindreither at gmail.com git_url: https://git.bioconductor.org/packages/TBX20BamSubset git_branch: devel git_last_commit: e74f8d9 git_last_commit_date: 2025-04-15 09:19:28 -0400 (Tue, 15 Apr 2025)