Package: SomatiCAData Version: 1.47.0 Command: /home/biocbuild/bbs-3.22-bioc/R/bin/R CMD check --install=check:SomatiCAData.install-out.txt --library=/home/biocbuild/bbs-3.22-bioc/R/site-library --timings SomatiCAData_1.47.0.tar.gz StartedAt: 2025-04-24 12:44:56 -0400 (Thu, 24 Apr 2025) EndedAt: 2025-04-24 12:46:57 -0400 (Thu, 24 Apr 2025) EllapsedTime: 120.8 seconds RetCode: 0 Status: WARNINGS CheckDir: SomatiCAData.Rcheck Warnings: 2