Package: SomatiCAData Version: 1.47.0 Command: /home/biocbuild/bbs-3.22-bioc/R/bin/R CMD build --keep-empty-dirs --no-resave-data SomatiCAData StartedAt: 2025-04-24 11:41:12 -0400 (Thu, 24 Apr 2025) EndedAt: 2025-04-24 11:41:16 -0400 (Thu, 24 Apr 2025) EllapsedTime: 3.4 seconds RetCode: 0 Status: OK PackageFile: SomatiCAData_1.47.0.tar.gz PackageFileSize: 32.14 MiB