Package: SomatiCAData Version: 1.47.0 Maintainer: Mengjie Chen MaintainerEmail: mengjie.chen at yale.edu git_url: https://git.bioconductor.org/packages/SomatiCAData git_branch: devel git_last_commit: 54297c3 git_last_commit_date: 2025-04-15 09:21:48 -0400 (Tue, 15 Apr 2025)