Package: Single.mTEC.Transcriptomes Version: 1.37.0 Command: /home/biocbuild/bbs-3.22-bioc/R/bin/R CMD INSTALL Single.mTEC.Transcriptomes StartedAt: 2025-04-29 10:55:51 -0400 (Tue, 29 Apr 2025) EndedAt: 2025-04-29 10:56:19 -0400 (Tue, 29 Apr 2025) EllapsedTime: 27.7 seconds RetCode: 0 Status: OK