Package: Single.mTEC.Transcriptomes Version: 1.37.0 Command: /home/biocbuild/bbs-3.22-bioc/R/bin/R CMD check --install=check:Single.mTEC.Transcriptomes.install-out.txt --library=/home/biocbuild/bbs-3.22-bioc/R/site-library --timings Single.mTEC.Transcriptomes_1.37.0.tar.gz StartedAt: 2025-04-29 12:47:23 -0400 (Tue, 29 Apr 2025) EndedAt: 2025-04-29 12:55:48 -0400 (Tue, 29 Apr 2025) EllapsedTime: 505.2 seconds RetCode: 0 Status: OK CheckDir: Single.mTEC.Transcriptomes.Rcheck Warnings: 0