Package: Single.mTEC.Transcriptomes Version: 1.37.0 Command: /home/biocbuild/bbs-3.22-bioc/R/bin/R CMD build --keep-empty-dirs --no-resave-data Single.mTEC.Transcriptomes StartedAt: 2025-04-29 11:42:59 -0400 (Tue, 29 Apr 2025) EndedAt: 2025-04-29 11:48:59 -0400 (Tue, 29 Apr 2025) EllapsedTime: 360.6 seconds RetCode: 0 Status: OK PackageFile: Single.mTEC.Transcriptomes_1.37.0.tar.gz PackageFileSize: 904.6 MiB