Package: Single.mTEC.Transcriptomes Version: 1.37.0 Maintainer: Alejandro Reyes MaintainerEmail: alejandro.reyes.ds at gmail.com git_url: https://git.bioconductor.org/packages/Single.mTEC.Transcriptomes git_branch: devel git_last_commit: 4cfc81c git_last_commit_date: 2025-04-15 10:04:26 -0400 (Tue, 15 Apr 2025)