Package: SNAData Version: 1.55.0 Command: /home/biocbuild/bbs-3.22-bioc/R/bin/R CMD INSTALL SNAData StartedAt: 2025-04-24 10:56:21 -0400 (Thu, 24 Apr 2025) EndedAt: 2025-04-24 10:56:26 -0400 (Thu, 24 Apr 2025) EllapsedTime: 5.0 seconds RetCode: 0 Status: OK