Package: SNAData Version: 1.55.0 Command: /home/biocbuild/bbs-3.22-bioc/R/bin/R CMD build --keep-empty-dirs --no-resave-data SNAData StartedAt: 2025-04-24 11:41:05 -0400 (Thu, 24 Apr 2025) EndedAt: 2025-04-24 11:41:12 -0400 (Thu, 24 Apr 2025) EllapsedTime: 6.6 seconds RetCode: 0 Status: OK PackageFile: SNAData_1.55.0.tar.gz PackageFileSize: 135 KiB