Package: RnBeads.rn5 Version: 1.41.0 Command: /home/biocbuild/bbs-3.22-bioc/R/bin/R CMD INSTALL RnBeads.rn5 StartedAt: 2025-04-29 10:58:15 -0400 (Tue, 29 Apr 2025) EndedAt: 2025-04-29 10:58:23 -0400 (Tue, 29 Apr 2025) EllapsedTime: 8.1 seconds RetCode: 0 Status: OK