Package: RnBeads.rn5 Version: 1.41.0 Command: /home/biocbuild/bbs-3.22-bioc/R/bin/R CMD check --install=check:RnBeads.rn5.install-out.txt --library=/home/biocbuild/bbs-3.22-bioc/R/site-library --timings RnBeads.rn5_1.41.0.tar.gz StartedAt: 2025-04-29 12:41:27 -0400 (Tue, 29 Apr 2025) EndedAt: 2025-04-29 12:44:04 -0400 (Tue, 29 Apr 2025) EllapsedTime: 156.7 seconds RetCode: 0 Status: OK CheckDir: RnBeads.rn5.Rcheck Warnings: 0