Package: RnBeads.rn5 Version: 1.41.0 Command: /home/biocbuild/bbs-3.22-bioc/R/bin/R CMD build --keep-empty-dirs --no-resave-data RnBeads.rn5 StartedAt: 2025-04-29 11:39:04 -0400 (Tue, 29 Apr 2025) EndedAt: 2025-04-29 11:39:11 -0400 (Tue, 29 Apr 2025) EllapsedTime: 6.9 seconds RetCode: 0 Status: OK PackageFile: RnBeads.rn5_1.41.0.tar.gz PackageFileSize: 106.8 MiB