Package: QUBICdata Version: 1.37.0 Command: /home/biocbuild/bbs-3.22-bioc/R/bin/R CMD INSTALL QUBICdata StartedAt: 2025-04-24 10:57:35 -0400 (Thu, 24 Apr 2025) EndedAt: 2025-04-24 10:57:37 -0400 (Thu, 24 Apr 2025) EllapsedTime: 2.0 seconds RetCode: 0 Status: OK