Package: PtH2O2lipids Version: 1.35.0 Maintainer: James Collins MaintainerEmail: james.r.collins at aya.yale.edu git_url: https://git.bioconductor.org/packages/PtH2O2lipids git_branch: devel git_last_commit: 9b301de git_last_commit_date: 2025-04-15 10:08:39 -0400 (Tue, 15 Apr 2025)