Package: PWMEnrich.Dmelanogaster.background Version: 4.43.0 Command: /home/biocbuild/bbs-3.22-bioc/R/bin/R CMD INSTALL PWMEnrich.Dmelanogaster.background StartedAt: 2025-04-29 10:56:52 -0400 (Tue, 29 Apr 2025) EndedAt: 2025-04-29 10:56:58 -0400 (Tue, 29 Apr 2025) EllapsedTime: 6.0 seconds RetCode: 0 Status: OK