Package: PWMEnrich.Dmelanogaster.background Version: 4.43.0 Command: /home/biocbuild/bbs-3.22-bioc/R/bin/R CMD check --install=check:PWMEnrich.Dmelanogaster.background.install-out.txt --library=/home/biocbuild/bbs-3.22-bioc/R/site-library --timings PWMEnrich.Dmelanogaster.background_4.43.0.tar.gz StartedAt: 2025-04-29 12:36:41 -0400 (Tue, 29 Apr 2025) EndedAt: 2025-04-29 12:37:19 -0400 (Tue, 29 Apr 2025) EllapsedTime: 38.0 seconds RetCode: 0 Status: OK CheckDir: PWMEnrich.Dmelanogaster.background.Rcheck Warnings: 0