Package: PWMEnrich.Dmelanogaster.background Version: 4.43.0 Command: /home/biocbuild/bbs-3.22-bioc/R/bin/R CMD build --keep-empty-dirs --no-resave-data PWMEnrich.Dmelanogaster.background StartedAt: 2025-04-29 11:37:31 -0400 (Tue, 29 Apr 2025) EndedAt: 2025-04-29 11:37:32 -0400 (Tue, 29 Apr 2025) EllapsedTime: 1.0 seconds RetCode: 0 Status: OK PackageFile: PWMEnrich.Dmelanogaster.background_4.43.0.tar.gz PackageFileSize: 6.539 MiB