Package: NestLink Version: 1.25.0 Command: /home/biocbuild/bbs-3.22-bioc/R/bin/R CMD INSTALL NestLink StartedAt: 2025-04-29 11:03:06 -0400 (Tue, 29 Apr 2025) EndedAt: 2025-04-29 11:03:47 -0400 (Tue, 29 Apr 2025) EllapsedTime: 40.7 seconds RetCode: 0 Status: OK