Package: NestLink Version: 1.25.0 Command: /home/biocbuild/bbs-3.22-bioc/R/bin/R CMD check --install=check:NestLink.install-out.txt --library=/home/biocbuild/bbs-3.22-bioc/R/site-library --timings NestLink_1.25.0.tar.gz StartedAt: 2025-04-29 12:31:36 -0400 (Tue, 29 Apr 2025) EndedAt: 2025-04-29 12:43:29 -0400 (Tue, 29 Apr 2025) EllapsedTime: 712.3 seconds RetCode: 0 Status: OK CheckDir: NestLink.Rcheck Warnings: 0