Package: NestLink Version: 1.25.0 Command: /home/biocbuild/bbs-3.22-bioc/R/bin/R CMD build --keep-empty-dirs --no-resave-data NestLink StartedAt: 2025-04-29 11:34:08 -0400 (Tue, 29 Apr 2025) EndedAt: 2025-04-29 11:38:12 -0400 (Tue, 29 Apr 2025) EllapsedTime: 243.4 seconds RetCode: 0 Status: OK PackageFile: NestLink_1.25.0.tar.gz PackageFileSize: 6.451 MiB