Package: NanoporeRNASeq Version: 1.19.0 Maintainer: Ying Chen MaintainerEmail: chen_ying at gis.a-star.edu.sg git_url: https://git.bioconductor.org/packages/NanoporeRNASeq git_branch: devel git_last_commit: 200d237 git_last_commit_date: 2025-04-15 10:15:43 -0400 (Tue, 15 Apr 2025)