Package: KEGGdzPathwaysGEO Version: 1.47.0 Command: /home/biocbuild/bbs-3.22-bioc/R/bin/R CMD INSTALL KEGGdzPathwaysGEO StartedAt: 2025-04-29 10:56:11 -0400 (Tue, 29 Apr 2025) EndedAt: 2025-04-29 10:56:12 -0400 (Tue, 29 Apr 2025) EllapsedTime: 1.9 seconds RetCode: 0 Status: OK