Package: KEGGdzPathwaysGEO Version: 1.47.0 Command: /home/biocbuild/bbs-3.22-bioc/R/bin/R CMD check --install=check:KEGGdzPathwaysGEO.install-out.txt --library=/home/biocbuild/bbs-3.22-bioc/R/site-library --timings KEGGdzPathwaysGEO_1.47.0.tar.gz StartedAt: 2025-04-29 12:20:29 -0400 (Tue, 29 Apr 2025) EndedAt: 2025-04-29 12:25:23 -0400 (Tue, 29 Apr 2025) EllapsedTime: 293.1 seconds RetCode: 0 Status: OK CheckDir: KEGGdzPathwaysGEO.Rcheck Warnings: 0