Package: KEGGdzPathwaysGEO Version: 1.47.0 Command: /home/biocbuild/bbs-3.22-bioc/R/bin/R CMD build --keep-empty-dirs --no-resave-data KEGGdzPathwaysGEO StartedAt: 2025-04-29 11:26:51 -0400 (Tue, 29 Apr 2025) EndedAt: 2025-04-29 11:27:10 -0400 (Tue, 29 Apr 2025) EllapsedTime: 19.3 seconds RetCode: 0 Status: OK PackageFile: KEGGdzPathwaysGEO_1.47.0.tar.gz PackageFileSize: 300.1 MiB