Package: KEGGdzPathwaysGEO Version: 1.47.0 Maintainer: Gaurav Bhatti MaintainerEmail: gbhatti at med.wayne.edu git_url: https://git.bioconductor.org/packages/KEGGdzPathwaysGEO git_branch: devel git_last_commit: 54c3b90 git_last_commit_date: 2025-04-15 09:19:44 -0400 (Tue, 15 Apr 2025)