Package: Iyer517 Version: 1.51.0 Maintainer: Vince Carey MaintainerEmail: stvjc at channing.harvard.edu git_url: https://git.bioconductor.org/packages/Iyer517 git_branch: devel git_last_commit: 8e546a8 git_last_commit_date: 2025-04-15 09:14:08 -0400 (Tue, 15 Apr 2025)