Package: IHWpaper Version: 1.37.0 Command: /home/biocbuild/bbs-3.22-bioc/R/bin/R CMD INSTALL IHWpaper StartedAt: 2025-05-01 11:02:49 -0400 (Thu, 01 May 2025) EndedAt: 2025-05-01 11:03:26 -0400 (Thu, 01 May 2025) EllapsedTime: 37.1 seconds RetCode: 0 Status: OK