Package: IHWpaper Version: 1.37.0 Command: /home/biocbuild/bbs-3.22-bioc/R/bin/R CMD check --install=check:IHWpaper.install-out.txt --library=/home/biocbuild/bbs-3.22-bioc/R/site-library --timings IHWpaper_1.37.0.tar.gz StartedAt: 2025-05-01 12:18:08 -0400 (Thu, 01 May 2025) EndedAt: 2025-05-01 12:26:28 -0400 (Thu, 01 May 2025) EllapsedTime: 500.1 seconds RetCode: 0 Status: OK CheckDir: IHWpaper.Rcheck Warnings: 0