Package: IHWpaper Version: 1.37.0 Command: /home/biocbuild/bbs-3.22-bioc/R/bin/R CMD build --keep-empty-dirs --no-resave-data IHWpaper StartedAt: 2025-05-01 11:25:35 -0400 (Thu, 01 May 2025) EndedAt: 2025-05-01 11:29:13 -0400 (Thu, 01 May 2025) EllapsedTime: 217.8 seconds RetCode: 0 Status: OK PackageFile: IHWpaper_1.37.0.tar.gz PackageFileSize: 75.62 MiB