Package: IHWpaper Version: 1.37.0 Maintainer: Nikos Ignatiadis MaintainerEmail: nikos.ignatiadis01 at gmail.com git_url: https://git.bioconductor.org/packages/IHWpaper git_branch: devel git_last_commit: dc2ebc4 git_last_commit_date: 2025-04-15 10:07:13 -0400 (Tue, 15 Apr 2025)