Package: HIVcDNAvantWout03 Version: 1.49.0 Command: /home/biocbuild/bbs-3.22-bioc/R/bin/R CMD INSTALL HIVcDNAvantWout03 StartedAt: 2025-04-29 10:55:15 -0400 (Tue, 29 Apr 2025) EndedAt: 2025-04-29 10:55:18 -0400 (Tue, 29 Apr 2025) EllapsedTime: 2.6 seconds RetCode: 0 Status: OK