Package: HIVcDNAvantWout03 Version: 1.49.0 Command: /home/biocbuild/bbs-3.22-bioc/R/bin/R CMD check --install=check:HIVcDNAvantWout03.install-out.txt --library=/home/biocbuild/bbs-3.22-bioc/R/site-library --timings HIVcDNAvantWout03_1.49.0.tar.gz StartedAt: 2025-04-29 12:16:36 -0400 (Tue, 29 Apr 2025) EndedAt: 2025-04-29 12:16:47 -0400 (Tue, 29 Apr 2025) EllapsedTime: 11.0 seconds RetCode: 0 Status: WARNINGS CheckDir: HIVcDNAvantWout03.Rcheck Warnings: 1