Package: GSE62944 Version: 1.37.0 Command: /home/biocbuild/bbs-3.22-bioc/R/bin/R CMD INSTALL GSE62944 StartedAt: 2025-04-29 11:00:00 -0400 (Tue, 29 Apr 2025) EndedAt: 2025-04-29 11:00:15 -0400 (Tue, 29 Apr 2025) EllapsedTime: 15.2 seconds RetCode: 0 Status: OK