Package: GSE62944 Version: 1.37.0 Command: /home/biocbuild/bbs-3.22-bioc/R/bin/R CMD check --install=check:GSE62944.install-out.txt --library=/home/biocbuild/bbs-3.22-bioc/R/site-library --timings GSE62944_1.37.0.tar.gz StartedAt: 2025-04-29 12:12:47 -0400 (Tue, 29 Apr 2025) EndedAt: 2025-04-29 12:15:11 -0400 (Tue, 29 Apr 2025) EllapsedTime: 143.9 seconds RetCode: 0 Status: OK CheckDir: GSE62944.Rcheck Warnings: 0