Package: GSE62944 Version: 1.37.0 Command: /home/biocbuild/bbs-3.22-bioc/R/bin/R CMD build --keep-empty-dirs --no-resave-data GSE62944 StartedAt: 2025-04-29 11:21:46 -0400 (Tue, 29 Apr 2025) EndedAt: 2025-04-29 11:23:09 -0400 (Tue, 29 Apr 2025) EllapsedTime: 83.6 seconds RetCode: 0 Status: OK PackageFile: GSE62944_1.37.0.tar.gz PackageFileSize: 221.1 KiB