Package: GSE159526 Version: 1.15.0 Command: /home/biocbuild/bbs-3.22-bioc/R/bin/R CMD INSTALL GSE159526 StartedAt: 2025-05-01 10:55:39 -0400 (Thu, 01 May 2025) EndedAt: 2025-05-01 10:55:40 -0400 (Thu, 01 May 2025) EllapsedTime: 1.5 seconds RetCode: 0 Status: OK