Package: GSE159526 Version: 1.15.0 Command: /home/biocbuild/bbs-3.22-bioc/R/bin/R CMD check --install=check:GSE159526.install-out.txt --library=/home/biocbuild/bbs-3.22-bioc/R/site-library --timings GSE159526_1.15.0.tar.gz StartedAt: 2025-05-01 12:11:36 -0400 (Thu, 01 May 2025) EndedAt: 2025-05-01 12:11:55 -0400 (Thu, 01 May 2025) EllapsedTime: 19.9 seconds RetCode: 0 Status: OK CheckDir: GSE159526.Rcheck Warnings: 0