Package: GSE159526 Version: 1.15.0 Command: /home/biocbuild/bbs-3.22-bioc/R/bin/R CMD build --keep-empty-dirs --no-resave-data GSE159526 StartedAt: 2025-05-01 11:21:05 -0400 (Thu, 01 May 2025) EndedAt: 2025-05-01 11:21:11 -0400 (Thu, 01 May 2025) EllapsedTime: 5.6 seconds RetCode: 0 Status: OK PackageFile: GSE159526_1.15.0.tar.gz PackageFileSize: 296.9 KiB