Package: GSE159526 Version: 1.15.0 Maintainer: Victor Yuan MaintainerEmail: victor.2wy at gmail.com git_url: https://git.bioconductor.org/packages/GSE159526 git_branch: devel git_last_commit: f89de76 git_last_commit_date: 2025-04-15 10:21:33 -0400 (Tue, 15 Apr 2025)